BEGIN:VCALENDAR
VERSION:2.0
PRODID:-//Shangpa Karma Ling - ECPv6.15.18//NONSGML v1.0//EN
CALSCALE:GREGORIAN
METHOD:PUBLISH
X-ORIGINAL-URL:https://www.shangpakarmaling.org
X-WR-CALDESC:Évènements pour Shangpa Karma Ling
REFRESH-INTERVAL;VALUE=DURATION:PT1H
X-Robots-Tag:noindex
X-PUBLISHED-TTL:PT1H
BEGIN:VTIMEZONE
TZID:Europe/Paris
BEGIN:DAYLIGHT
TZOFFSETFROM:+0100
TZOFFSETTO:+0200
TZNAME:CEST
DTSTART:20240331T010000
END:DAYLIGHT
BEGIN:STANDARD
TZOFFSETFROM:+0200
TZOFFSETTO:+0100
TZNAME:CET
DTSTART:20241027T010000
END:STANDARD
BEGIN:DAYLIGHT
TZOFFSETFROM:+0100
TZOFFSETTO:+0200
TZNAME:CEST
DTSTART:20250330T010000
END:DAYLIGHT
BEGIN:STANDARD
TZOFFSETFROM:+0200
TZOFFSETTO:+0100
TZNAME:CET
DTSTART:20251026T010000
END:STANDARD
BEGIN:DAYLIGHT
TZOFFSETFROM:+0100
TZOFFSETTO:+0200
TZNAME:CEST
DTSTART:20260329T010000
END:DAYLIGHT
BEGIN:STANDARD
TZOFFSETFROM:+0200
TZOFFSETTO:+0100
TZNAME:CET
DTSTART:20261025T010000
END:STANDARD
END:VTIMEZONE
BEGIN:VEVENT
DTSTART;TZID=Europe/Paris:20251205T100000
DTEND;TZID=Europe/Paris:20251207T160000
DTSTAMP:20260420T094915
CREATED:20250929T124843Z
LAST-MODIFIED:20251124T160452Z
UID:10000222-1764928800-1765123200@www.shangpakarmaling.org
SUMMARY:Retraite Danses du Vajra - toutes danses : Chant du Vajra\, Danse pour le bien des êtres\, Danses des 3 Vajras
DESCRIPTION:[vc_row css_animation= » » row_type= »row » use_row_as_full_screen_section= »no » type= »full_width » angled_section= »no » text_align= »left » background_image_as_pattern= »without_pattern » css= ».vc_custom_1750773427862{margin-bottom: 3% !important;} » z_index= » »][vc_column][vc_column_text css= » »]Méditation en mouvement\, la Danse du Vajra\, enseignement du maître Dzogchen Chögyal Namkhai Norbu\, est pratiquée sur un mandala de cinq couleurs symbolisant les correspondances entre la dimension interne de l’individu et la dimension externe du monde. \nLa danse du Vajra utilise son et mouvement comme moyens pour intégrer les trois aspects de notre existence – corps\, voix et esprit – dans la connaissance de notre véritable nature. Douze pratiquants\, six femmes et six hommes\, dansent ensemble sur un grand mandala. \nChögyal Namkhai Norbu\, un des plus grands maîtres du Dzogchen\, enseigna la danse du Vajra à partir de 1990. Dans sa continuité\, ses élèves la  transmettent et la pratiquent  dans de nombreux centres de la Communauté Dzogchen internationale. \nNous alternerons Danse des 3 Vajras\, Danse pour le bien de tous les êtres\, Danse du Chant du Vajra et contemplation assise.[/vc_column_text][vc_custom_heading text= »Instructrice : Lorraine Gaultier » font_container= »tag:h3|text_align:left » use_theme_fonts= »yes » css= ».vc_custom_1759149131792{margin-top: 30px !important;} » el_class= »fleche »][vc_column_text css= » »]Étudiante de Chogyal Namkhai Norbu et de Denys Rinpoché. Instructrice de Danse du Vajra. Psychiatre\, psychanalyste\, la rencontre avec le Dharma depuis 20 ans a coloré sa pratique dans diverses institutions. Notamment la clinique la Lironde (dont Lacan disait « délirons-la ») auprès d’adolescents et de psychotiques. Exerçant dans une yourte\, elle utilise la psychanalyse et la méditation laïque auprès d’enfants\, d’adolescents\, d’adultes\, dont de nombreux soignants trop souvent abîmés.[/vc_column_text][/vc_column][/vc_row]
URL:https://www.shangpakarmaling.org/session/danses-du-vajra-les-3-danses/
CATEGORIES:Voie Universelle
ATTACH;FMTTYPE=image/jpeg:https://www.shangpakarmaling.org/wp-content/uploads/2025/07/Karma-Ling-pratique-danse-vajra.jpg
END:VEVENT
END:VCALENDAR