BEGIN:VCALENDAR
VERSION:2.0
PRODID:-//Shangpa Karma Ling - ECPv6.15.18//NONSGML v1.0//EN
CALSCALE:GREGORIAN
METHOD:PUBLISH
X-WR-CALNAME:Shangpa Karma Ling
X-ORIGINAL-URL:https://www.shangpakarmaling.org
X-WR-CALDESC:Évènements pour Shangpa Karma Ling
REFRESH-INTERVAL;VALUE=DURATION:PT1H
X-Robots-Tag:noindex
X-PUBLISHED-TTL:PT1H
BEGIN:VTIMEZONE
TZID:Europe/Paris
BEGIN:DAYLIGHT
TZOFFSETFROM:+0100
TZOFFSETTO:+0200
TZNAME:CEST
DTSTART:20240331T010000
END:DAYLIGHT
BEGIN:STANDARD
TZOFFSETFROM:+0200
TZOFFSETTO:+0100
TZNAME:CET
DTSTART:20241027T010000
END:STANDARD
BEGIN:DAYLIGHT
TZOFFSETFROM:+0100
TZOFFSETTO:+0200
TZNAME:CEST
DTSTART:20250330T010000
END:DAYLIGHT
BEGIN:STANDARD
TZOFFSETFROM:+0200
TZOFFSETTO:+0100
TZNAME:CET
DTSTART:20251026T010000
END:STANDARD
BEGIN:DAYLIGHT
TZOFFSETFROM:+0100
TZOFFSETTO:+0200
TZNAME:CEST
DTSTART:20260329T010000
END:DAYLIGHT
BEGIN:STANDARD
TZOFFSETFROM:+0200
TZOFFSETTO:+0100
TZNAME:CET
DTSTART:20261025T010000
END:STANDARD
END:VTIMEZONE
BEGIN:VEVENT
DTSTART;TZID=Europe/Paris:20251018T073000
DTEND;TZID=Europe/Paris:20251116T193000
DTSTAMP:20260420T140903
CREATED:20251013T081303Z
LAST-MODIFIED:20251013T125445Z
UID:10000223-1760772600-1763321400@www.shangpakarmaling.org
SUMMARY:Retraite de pratique Mani-Boum : une accumulation de Mani pour la paix et le bien de tous les êtres
DESCRIPTION:[vc_row css_animation= » » row_type= »row » use_row_as_full_screen_section= »no » type= »full_width » angled_section= »no » text_align= »left » background_image_as_pattern= »without_pattern » css= ».vc_custom_1750773427862{margin-bottom: 3% !important;} » z_index= » »][vc_column][vc_column_text css= » »] \nUn mois entier de pratique intensive de Chenrézi\, le Bouddha de la Compassion\, qui débute avec les vacances de Toussaint – Chaque jour de 7h30 à 19h30\n[/vc_column_text][vc_column_text css= » »]Nous avons la joie de vous inviter du 18 octobre au 16 novembre\, dans le centre de retraites Nigu Karma Ling\, au cœur des montagnes de la Savoie\, pour une retraite de pratique intensive du Sadhana de Chenrézi. Cette période exceptionnelle d’un mois sera pleinement consacrée à une récitation en continu de 7h30 à 19h30 du mantra OM MANI PADME HUNG\, le mantra de Chenrézi le Bouddha de la Compassion. Une accumulation de Mani pour la paix et le bien de tous les êtres. \nVenez et laissez vous porter dans cet environnement calme et propice à la pratique pour faire de ce mois une offrande de compassion et de paix. Nous serons heureux de vous accueillir pour un jour\, un week-end\, une semaine\, un mois… selon votre élan et vos disponibilités. Pratiquer ensemble\, réunis à la Maison de la Sagesse\, renforce la motivation et permet d’approfondir la pratique : une occasion unique de participer au mois de la Compassion et au festival de prières pour la Paix. Nous vous espérons nombreuses et nombreux pour se retrouver ensemble en cette mani-festation internationale d’amour et de compassion universels.[/vc_column_text][vc_custom_heading text= »Pratiquement » font_container= »tag:h3|text_align:left » use_theme_fonts= »yes » css= ».vc_custom_1760357813091{margin-top: 30px !important;} » el_class= »fleche »][vc_column_text css= ».vc_custom_1760358112975{margin-bottom: 20px !important;} »]Les membres de la Communauté\, pratiquants du Sadhana d’Immense Bonté\, assureront une pratique continue chaque jour\, de 7h30 à 19h30\, 12 heures de pratique ininterrompue du mantra de Chenrézi à la Maison de la Sagesse. \nLa Maison de la Sagesse sera connectée non-stop au réseau interconnecté du Vajraloka et tout particulièrement en lien avec Palden Shangpa La Boulaye et tous les centres qui voudraient participer à cette initiative. \nJoignez-vous en présentiel à l’essaim continuel de OM MANI PADME HUNG en venant faire retraite à Nigu Karma Ling. \n[/vc_column_text]\n\n	\n	    S’inscrire en présentiel	\n\n[vc_column_text css= ».vc_custom_1760358123316{margin-bottom: 20px !important;} »]Chaque fois que vous le pouvez\, pour le temps dont vous disposez\, joignez vous en ligne\, d’où que vous soyez\, à l’essaim continuel de OM MANI PADME HUNG.[/vc_column_text]Rejoindre la pratique en ligne[vc_column_text css= ».vc_custom_1760359840959{margin-bottom: 20px !important;} »]⇢ Objectif : 10 millions de mani\n[/vc_column_text]Transmettez régulièrement votre compte de Mani ici[vc_custom_heading text= »Étude » font_container= »tag:h3|text_align:left » use_theme_fonts= »yes » css= ».vc_custom_1760359394318{margin-top: 30px !important;} » el_class= »fleche »][vc_column_text css= ».vc_custom_1760359363847{margin-bottom: 20px !important;} »]⇢ Deux soirées par semaine\, les mardi et vendredi soirs\, Denys Rinpoché interviendra à 19h30 à la fin du Sadhana pour un approfondissement de la pratique de Chenrézi.[/vc_column_text][vc_custom_heading text= »Support » font_container= »tag:h3|text_align:left » use_theme_fonts= »yes » css= ».vc_custom_1760359388114{margin-top: 30px !important;} » el_class= »fleche »][vc_column_text css= ».vc_custom_1760359421156{margin-bottom: 20px !important;} »]Pour vous aider dans vos études\, vous pouvez compter sur les ouvrages suivants : \n\nle Sadhana de Chenrézi\, de Denys Rinpoché\, disponible à la boutique de Karma Ling ;\nles deux commentaires La continuelle ondée pour le bien des vivants\, de Khakhyab Dorje et Le texte principal de la pratique des Six Syllabes et leur élucidation de Thangtong Gyelpo. L’ouvrage regroupant ces deux commentaires tibétains et leur traduction française est à paraître prochainement. Son éditeur\, le Bois d’Orion\, le mettra gracieusement à disposition des pratiquants en version numérique PDF\n\n[/vc_column_text][/vc_column][/vc_row]
URL:https://www.shangpakarmaling.org/session/mois-de-la-compassion/
CATEGORIES:Ecole de la lignée
ATTACH;FMTTYPE=image/jpeg:https://www.shangpakarmaling.org/wp-content/uploads/2025/10/mois-de-la-compassion-Chenrezi.jpg
END:VEVENT
BEGIN:VEVENT
DTSTART;TZID=Europe/Paris:20251122T100000
DTEND;TZID=Europe/Paris:20251123T160000
DTSTAMP:20260420T140903
CREATED:20250929T124649Z
LAST-MODIFIED:20250930T083848Z
UID:10000221-1763805600-1763913600@www.shangpakarmaling.org
SUMMARY:Stage Danses du Vajra - Danse des 3 Vajras (OM A HUM ) - débutant.e.s et confirmé.e.s
DESCRIPTION:[vc_row css_animation= » » row_type= »row » use_row_as_full_screen_section= »no » type= »full_width » angled_section= »no » text_align= »left » background_image_as_pattern= »without_pattern » css= ».vc_custom_1750773427862{margin-bottom: 3% !important;} » z_index= » »][vc_column][vc_column_text css= » »]Méditation en mouvement\, la Danse du Vajra\, enseignement du maître Dzogchen Chögyal Namkhai Norbu\, est pratiquée sur un mandala de cinq couleurs symbolisant les correspondances entre la dimension interne de l’individu et la dimension externe du monde. \nLa danse du Vajra utilise son et mouvement comme moyens pour intégrer les trois aspects de notre existence – corps\, voix et esprit – dans la connaissance de notre véritable nature. Douze pratiquants\, six femmes et six hommes\, dansent ensemble sur un grand mandala. \nChögyal Namkhai Norbu\, un des plus grands maîtres du Dzogchen\, enseigna la danse du Vajra à partir de 1990. Dans sa continuité\, ses élèves la  transmettent et la pratiquent  dans de nombreux centres de la Communauté Dzogchen internationale. \nCette retraite est un stage d’apprentissage de la Danse des 3 Vajras pour des débutants. Nous danserons également la Danse du Chant du Vajra pour celles et ceux qui la connaissent.[/vc_column_text][vc_custom_heading text= »Instructrice : Lorraine Gaultier » font_container= »tag:h3|text_align:left » use_theme_fonts= »yes » css= ».vc_custom_1759149131792{margin-top: 30px !important;} » el_class= »fleche »][vc_column_text css= » »]Étudiante de Chogyal Namkhai Norbu et de Denys Rinpoché. Instructrice de Danse du Vajra. Psychiatre\, psychanalyste\, la rencontre avec le Dharma depuis 20 ans a coloré sa pratique dans diverses institutions. Notamment la clinique la Lironde (dont Lacan disait « délirons-la ») auprès d’adolescents et de psychotiques. Exerçant dans une yourte\, elle utilise la psychanalyse et la méditation laïque auprès d’enfants\, d’adolescents\, d’adultes\, dont de nombreux soignants trop souvent abîmés.[/vc_column_text][/vc_column][/vc_row]
URL:https://www.shangpakarmaling.org/session/danses-du-vajra-danse-des-3-vajras/
CATEGORIES:Voie Universelle
ATTACH;FMTTYPE=image/jpeg:https://www.shangpakarmaling.org/wp-content/uploads/2025/07/Karma-Ling-pratique-danse-vajra.jpg
END:VEVENT
END:VCALENDAR